BEGIN:VCALENDAR
VERSION:2.0
PRODID:-//ASCE Syracuse - ECPv6.11.2.1//NONSGML v1.0//EN
CALSCALE:GREGORIAN
METHOD:PUBLISH
X-WR-CALNAME:ASCE Syracuse
X-ORIGINAL-URL:https://ascesyracuse.org
X-WR-CALDESC:Events for ASCE Syracuse
REFRESH-INTERVAL;VALUE=DURATION:PT1H
X-Robots-Tag:noindex
X-PUBLISHED-TTL:PT1H
BEGIN:VTIMEZONE
TZID:America/New_York
BEGIN:DAYLIGHT
TZOFFSETFROM:-0500
TZOFFSETTO:-0400
TZNAME:EDT
DTSTART:20220313T070000
END:DAYLIGHT
BEGIN:STANDARD
TZOFFSETFROM:-0400
TZOFFSETTO:-0500
TZNAME:EST
DTSTART:20221106T060000
END:STANDARD
END:VTIMEZONE
BEGIN:VEVENT
DTSTART;TZID=America/New_York:20220225T190000
DTEND;TZID=America/New_York:20220225T210000
DTSTAMP:20260421T054930
CREATED:20220202T203050Z
LAST-MODIFIED:20220211T193647Z
UID:348-1645815600-1645822800@ascesyracuse.org
SUMMARY:ASCE @ Syracuse Crunch Hockey Game
DESCRIPTION:When: Friday\, February 25\, 2022 at 7pm \nWhere: Upstate Medical University Arena \nCost: $10 for members & family/$15 for non-members
URL:https://ascesyracuse.org/event/asce-syracuse-crunch-hockey-game/
LOCATION:NY
END:VEVENT
END:VCALENDAR