BEGIN:VCALENDAR
VERSION:2.0
PRODID:-//ASCE Syracuse - ECPv6.11.2.1//NONSGML v1.0//EN
CALSCALE:GREGORIAN
METHOD:PUBLISH
X-ORIGINAL-URL:https://ascesyracuse.org
X-WR-CALDESC:Events for ASCE Syracuse
REFRESH-INTERVAL;VALUE=DURATION:PT1H
X-Robots-Tag:noindex
X-PUBLISHED-TTL:PT1H
BEGIN:VTIMEZONE
TZID:America/New_York
BEGIN:DAYLIGHT
TZOFFSETFROM:-0500
TZOFFSETTO:-0400
TZNAME:EDT
DTSTART:20210314T070000
END:DAYLIGHT
BEGIN:STANDARD
TZOFFSETFROM:-0400
TZOFFSETTO:-0500
TZNAME:EST
DTSTART:20211107T060000
END:STANDARD
END:VTIMEZONE
BEGIN:VEVENT
DTSTART;TZID=America/New_York:20210330T113000
DTEND;TZID=America/New_York:20210330T130000
DTSTAMP:20260422T000737
CREATED:20210223T135704Z
LAST-MODIFIED:20210223T135704Z
UID:268-1617103800-1617109200@ascesyracuse.org
SUMMARY:PDH Live Webinar: Corrective Work in Steel Structures
DESCRIPTION:PDH Live Webinar: Corrective Work in Steel Structures \nDate: March 30\, 2021 \nTime: 11:30AM – 1:00PM \nPDH Credit: 1.5 \nMember Price: Free ($99 savings!) \nNon-member Price: $15 ($144 savings!) \nRegistration deadline: March 28\, 2021 at 8PM \n  \nA webinar link will be emailed\, the morning of the webinar\, to those who sign up. Directions on how to obtain your PDH certificate will be emailed directly after the presentation’s conclusion. \nPDH Learning Outcomes/Benefits \n\nKnow when deficient steel framing could be repaired\, when it should be replaced\, and when the framing could be accepted as is\nBecome familiar with the main challenges of reinforcing and strengthening steel structures and with the strategies for meeting them\nLearn how to repair and strengthen various types of steel structures and systems\n\nPlease contact Ray D’Hollander (ray.dhollander@parsons.com) with any questions.
URL:https://ascesyracuse.org/event/pdh-live-webinar-corrective-work-in-steel-structures/
LOCATION:NY
END:VEVENT
END:VCALENDAR