BEGIN:VCALENDAR
VERSION:2.0
PRODID:-//ASCE Syracuse - ECPv6.11.2.1//NONSGML v1.0//EN
CALSCALE:GREGORIAN
METHOD:PUBLISH
X-WR-CALNAME:ASCE Syracuse
X-ORIGINAL-URL:https://ascesyracuse.org
X-WR-CALDESC:Events for ASCE Syracuse
REFRESH-INTERVAL;VALUE=DURATION:PT1H
X-Robots-Tag:noindex
X-PUBLISHED-TTL:PT1H
BEGIN:VTIMEZONE
TZID:America/New_York
BEGIN:DAYLIGHT
TZOFFSETFROM:-0500
TZOFFSETTO:-0400
TZNAME:EDT
DTSTART:20210314T070000
END:DAYLIGHT
BEGIN:STANDARD
TZOFFSETFROM:-0400
TZOFFSETTO:-0500
TZNAME:EST
DTSTART:20211107T060000
END:STANDARD
END:VTIMEZONE
BEGIN:VEVENT
DTSTART;TZID=America/New_York:20210125T113000
DTEND;TZID=America/New_York:20210125T130000
DTSTAMP:20260422T031200
CREATED:20210106T210231Z
LAST-MODIFIED:20210107T150231Z
UID:259-1611574200-1611579600@ascesyracuse.org
SUMMARY:PDH Live Webinar: Ethics in Sustainable Development for Civil and Structural Engineers
DESCRIPTION:PDH Live Webinar: Ethics in Sustainable Development for Civil and Structural Engineers \nDate: January 25\, 2021 \nTime: 11:30AM – 1:00PM \nPDH Credit: 1.5 \nMember Price: Free ($99 savings!) \nNon-member Price: $15 ($144 savings!) \nRegistration deadline: January 22\, 2021 at 5PM \nA webinar link will be emailed\, the morning of the webinar\, to those who sign up. Directions on how to obtain your PDH certificate will be emailed directly after the presentation’s conclusion. \nPDH Learning Outcomes/Benefits  \n\nUnderstand society’s expectations for engineers on sustainability\nDiscover related issues in engineering ethics\nDescribe a responsible approach to sustainability in engineering practice\nReview practical examples and cases\n\nPlease contact Kip Wittchen (kwittchen@ipdengineering.com) with any questions. \nSign up now!
URL:https://ascesyracuse.org/event/pdh-live-webinar-ethics-in-sustainable-development-for-civil-and-structural-engineers/
LOCATION:NY
END:VEVENT
END:VCALENDAR